BEGIN:VCALENDAR
VERSION:2.0
PRODID:-//The Pickles Nation - ECPv6.15.20//NONSGML v1.0//EN
CALSCALE:GREGORIAN
METHOD:PUBLISH
X-WR-CALNAME:The Pickles Nation
X-ORIGINAL-URL:https://thepicklesnation.com
X-WR-CALDESC:Events for The Pickles Nation
REFRESH-INTERVAL;VALUE=DURATION:PT1H
X-Robots-Tag:noindex
X-PUBLISHED-TTL:PT1H
BEGIN:VTIMEZONE
TZID:America/New_York
BEGIN:DAYLIGHT
TZOFFSETFROM:-0500
TZOFFSETTO:-0400
TZNAME:EDT
DTSTART:20240310T070000
END:DAYLIGHT
BEGIN:STANDARD
TZOFFSETFROM:-0400
TZOFFSETTO:-0500
TZNAME:EST
DTSTART:20241103T060000
END:STANDARD
BEGIN:DAYLIGHT
TZOFFSETFROM:-0500
TZOFFSETTO:-0400
TZNAME:EDT
DTSTART:20250309T070000
END:DAYLIGHT
BEGIN:STANDARD
TZOFFSETFROM:-0400
TZOFFSETTO:-0500
TZNAME:EST
DTSTART:20251102T060000
END:STANDARD
BEGIN:DAYLIGHT
TZOFFSETFROM:-0500
TZOFFSETTO:-0400
TZNAME:EDT
DTSTART:20260308T070000
END:DAYLIGHT
BEGIN:STANDARD
TZOFFSETFROM:-0400
TZOFFSETTO:-0500
TZNAME:EST
DTSTART:20261101T060000
END:STANDARD
END:VTIMEZONE
BEGIN:VEVENT
DTSTART;TZID=America/New_York:20250725T140000
DTEND;TZID=America/New_York:20250725T170000
DTSTAMP:20260420T140714
CREATED:20250130T185136Z
LAST-MODIFIED:20250130T185136Z
UID:1008-1753452000-1753462800@thepicklesnation.com
SUMMARY:Trio w/ Ted Hammock @ The Sea Shell
DESCRIPTION:
URL:https://thepicklesnation.com/event/trio-w-ted-hammock-the-sea-shell-4/
END:VEVENT
BEGIN:VEVENT
DTSTART;TZID=America/New_York:20250723T200000
DTEND;TZID=America/New_York:20250723T230000
DTSTAMP:20260420T140714
CREATED:20250130T184638Z
LAST-MODIFIED:20250130T184638Z
UID:989-1753300800-1753311600@thepicklesnation.com
SUMMARY:Duo @ The Sea Shell
DESCRIPTION:
URL:https://thepicklesnation.com/event/duo-the-sea-shell-41/
END:VEVENT
BEGIN:VEVENT
DTSTART;TZID=America/New_York:20250723T140000
DTEND;TZID=America/New_York:20250723T170000
DTSTAMP:20260420T140714
CREATED:20250130T184014Z
LAST-MODIFIED:20250130T184014Z
UID:960-1753279200-1753290000@thepicklesnation.com
SUMMARY:Duo @ The Sea Shell
DESCRIPTION:
URL:https://thepicklesnation.com/event/duo-the-sea-shell-28/
END:VEVENT
BEGIN:VEVENT
DTSTART;TZID=America/New_York:20250722T190000
DTEND;TZID=America/New_York:20250722T220000
DTSTAMP:20260420T140714
CREATED:20250130T183036Z
LAST-MODIFIED:20250130T183036Z
UID:922-1753210800-1753221600@thepicklesnation.com
SUMMARY:The Pickles n Friends @ Calloways
DESCRIPTION:
URL:https://thepicklesnation.com/event/the-pickles-n-friends-calloways-29/
END:VEVENT
BEGIN:VEVENT
DTSTART;TZID=America/New_York:20250721T180000
DTEND;TZID=America/New_York:20250721T210000
DTSTAMP:20260420T140714
CREATED:20250130T182142Z
LAST-MODIFIED:20250130T182142Z
UID:886-1753120800-1753131600@thepicklesnation.com
SUMMARY:TMT @ The OC
DESCRIPTION:
URL:https://thepicklesnation.com/event/tmt-the-oc-50/
END:VEVENT
BEGIN:VEVENT
DTSTART;TZID=America/New_York:20250719T170000
DTEND;TZID=America/New_York:20250719T190000
DTSTAMP:20260420T140714
CREATED:20250130T190656Z
LAST-MODIFIED:20250130T190656Z
UID:1060-1752944400-1752951600@thepicklesnation.com
SUMMARY:Duo @ Private Party
DESCRIPTION:
URL:https://thepicklesnation.com/event/duo-private-party-6/
END:VEVENT
BEGIN:VEVENT
DTSTART;TZID=America/New_York:20250718T220000
DTEND;TZID=America/New_York:20250718T233000
DTSTAMP:20260420T140714
CREATED:20250130T190623Z
LAST-MODIFIED:20250130T190623Z
UID:1058-1752876000-1752881400@thepicklesnation.com
SUMMARY:Full Band @ Nardi's
DESCRIPTION:
URL:https://thepicklesnation.com/event/full-band-nardis-4/
END:VEVENT
BEGIN:VEVENT
DTSTART;TZID=America/New_York:20250718T140000
DTEND;TZID=America/New_York:20250718T170000
DTSTAMP:20260420T140714
CREATED:20250130T185104Z
LAST-MODIFIED:20250130T185104Z
UID:1006-1752847200-1752858000@thepicklesnation.com
SUMMARY:Trio w/ Ted Hammock @ The Sea Shell
DESCRIPTION:
URL:https://thepicklesnation.com/event/trio-w-ted-hammock-the-sea-shell-3/
END:VEVENT
BEGIN:VEVENT
DTSTART;TZID=America/New_York:20250716T200000
DTEND;TZID=America/New_York:20250716T230000
DTSTAMP:20260420T140714
CREATED:20250130T184621Z
LAST-MODIFIED:20250130T184621Z
UID:987-1752696000-1752706800@thepicklesnation.com
SUMMARY:Duo @ The Sea Shell
DESCRIPTION:
URL:https://thepicklesnation.com/event/duo-the-sea-shell-40/
END:VEVENT
BEGIN:VEVENT
DTSTART;TZID=America/New_York:20250716T140000
DTEND;TZID=America/New_York:20250716T170000
DTSTAMP:20260420T140714
CREATED:20250130T183955Z
LAST-MODIFIED:20250130T183955Z
UID:958-1752674400-1752685200@thepicklesnation.com
SUMMARY:Duo @ The Sea Shell
DESCRIPTION:
URL:https://thepicklesnation.com/event/duo-the-sea-shell-27/
END:VEVENT
BEGIN:VEVENT
DTSTART;TZID=America/New_York:20250715T190000
DTEND;TZID=America/New_York:20250715T220000
DTSTAMP:20260420T140714
CREATED:20250130T182958Z
LAST-MODIFIED:20250130T182958Z
UID:920-1752606000-1752616800@thepicklesnation.com
SUMMARY:The Pickles n Friends @ Calloways
DESCRIPTION:
URL:https://thepicklesnation.com/event/the-pickles-n-friends-calloways-28/
END:VEVENT
BEGIN:VEVENT
DTSTART;TZID=America/New_York:20250714T180000
DTEND;TZID=America/New_York:20250714T210000
DTSTAMP:20260420T140714
CREATED:20250130T182118Z
LAST-MODIFIED:20250130T182118Z
UID:884-1752516000-1752526800@thepicklesnation.com
SUMMARY:TMT @ The OC
DESCRIPTION:
URL:https://thepicklesnation.com/event/tmt-the-oc-49/
END:VEVENT
BEGIN:VEVENT
DTSTART;TZID=America/New_York:20250712T180000
DTEND;TZID=America/New_York:20250712T193000
DTSTAMP:20260420T140714
CREATED:20250130T190551Z
LAST-MODIFIED:20250710T203457Z
UID:1056-1752343200-1752348600@thepicklesnation.com
SUMMARY:Trio @ Surf City Hotel
DESCRIPTION:Stan-a-palooza w/ Ted Hammock & Jason Booth
URL:https://thepicklesnation.com/event/trio-stan-a-palooza/
END:VEVENT
BEGIN:VEVENT
DTSTART;TZID=America/New_York:20250711T140000
DTEND;TZID=America/New_York:20250711T170000
DTSTAMP:20260420T140714
CREATED:20250130T185031Z
LAST-MODIFIED:20250130T185031Z
UID:1004-1752242400-1752253200@thepicklesnation.com
SUMMARY:Trio w/ Ted Hammock @ The Sea Shell
DESCRIPTION:
URL:https://thepicklesnation.com/event/trio-w-ted-hammock-the-sea-shell-2/
END:VEVENT
BEGIN:VEVENT
DTSTART;TZID=America/New_York:20250709T190000
DTEND;TZID=America/New_York:20250709T220000
DTSTAMP:20260420T140714
CREATED:20250130T184557Z
LAST-MODIFIED:20250130T184557Z
UID:985-1752087600-1752098400@thepicklesnation.com
SUMMARY:Duo @ The Sea Shell
DESCRIPTION:
URL:https://thepicklesnation.com/event/duo-the-sea-shell-39/
END:VEVENT
BEGIN:VEVENT
DTSTART;TZID=America/New_York:20250709T140000
DTEND;TZID=America/New_York:20250709T170000
DTSTAMP:20260420T140714
CREATED:20250130T183930Z
LAST-MODIFIED:20250130T183930Z
UID:956-1752069600-1752080400@thepicklesnation.com
SUMMARY:Duo @ The Sea Shell
DESCRIPTION:
URL:https://thepicklesnation.com/event/duo-the-sea-shell-26/
END:VEVENT
BEGIN:VEVENT
DTSTART;TZID=America/New_York:20250707T180000
DTEND;TZID=America/New_York:20250707T210000
DTSTAMP:20260420T140714
CREATED:20250130T182047Z
LAST-MODIFIED:20250130T182047Z
UID:882-1751911200-1751922000@thepicklesnation.com
SUMMARY:TMT @ The OC
DESCRIPTION:
URL:https://thepicklesnation.com/event/tmt-the-oc-48/
END:VEVENT
BEGIN:VEVENT
DTSTART;TZID=America/New_York:20250706T213000
DTEND;TZID=America/New_York:20250706T233000
DTSTAMP:20260420T140714
CREATED:20250521T204732Z
LAST-MODIFIED:20250521T204732Z
UID:1115-1751837400-1751844600@thepicklesnation.com
SUMMARY:Full Band @ The OC
DESCRIPTION:
URL:https://thepicklesnation.com/event/full-band-the-oc-3/
END:VEVENT
BEGIN:VEVENT
DTSTART;TZID=America/New_York:20250705T170000
DTEND;TZID=America/New_York:20250705T200000
DTSTAMP:20260420T140714
CREATED:20250130T190514Z
LAST-MODIFIED:20250130T190514Z
UID:1054-1751734800-1751745600@thepicklesnation.com
SUMMARY:Full Band @ Private Party
DESCRIPTION:
URL:https://thepicklesnation.com/event/full-band-private-party-6/
END:VEVENT
BEGIN:VEVENT
DTSTART;TZID=America/New_York:20250704T180000
DTEND;TZID=America/New_York:20250704T220000
DTSTAMP:20260420T140714
CREATED:20250130T190442Z
LAST-MODIFIED:20250130T190442Z
UID:1052-1751652000-1751666400@thepicklesnation.com
SUMMARY:Duo @ Private Party
DESCRIPTION:
URL:https://thepicklesnation.com/event/duo-private-party-5/
END:VEVENT
BEGIN:VEVENT
DTSTART;TZID=America/New_York:20250704T140000
DTEND;TZID=America/New_York:20250704T170000
DTSTAMP:20260420T140714
CREATED:20250130T185001Z
LAST-MODIFIED:20250130T185001Z
UID:1001-1751637600-1751648400@thepicklesnation.com
SUMMARY:Trio w/ Ted Hammock @ The Sea Shell
DESCRIPTION:
URL:https://thepicklesnation.com/event/trio-w-ted-hammock-the-sea-shell/
END:VEVENT
BEGIN:VEVENT
DTSTART;TZID=America/New_York:20250702T200000
DTEND;TZID=America/New_York:20250702T230000
DTSTAMP:20260420T140714
CREATED:20250130T184537Z
LAST-MODIFIED:20250130T184537Z
UID:983-1751486400-1751497200@thepicklesnation.com
SUMMARY:Duo @ The Sea Shell
DESCRIPTION:
URL:https://thepicklesnation.com/event/duo-the-sea-shell-38/
END:VEVENT
BEGIN:VEVENT
DTSTART;TZID=America/New_York:20250702T140000
DTEND;TZID=America/New_York:20250702T170000
DTSTAMP:20260420T140714
CREATED:20250130T183911Z
LAST-MODIFIED:20250130T183911Z
UID:954-1751464800-1751475600@thepicklesnation.com
SUMMARY:Duo @ The Sea Shell
DESCRIPTION:
URL:https://thepicklesnation.com/event/duo-the-sea-shell-25/
END:VEVENT
BEGIN:VEVENT
DTSTART;TZID=America/New_York:20250701T190000
DTEND;TZID=America/New_York:20250701T220000
DTSTAMP:20260420T140714
CREATED:20250130T182912Z
LAST-MODIFIED:20250130T182912Z
UID:916-1751396400-1751407200@thepicklesnation.com
SUMMARY:The Pickles n Friends @ Calloways
DESCRIPTION:
URL:https://thepicklesnation.com/event/the-pickles-n-friends-calloways-26/
END:VEVENT
BEGIN:VEVENT
DTSTART;TZID=America/New_York:20250630T180000
DTEND;TZID=America/New_York:20250630T210000
DTSTAMP:20260420T140714
CREATED:20250130T182026Z
LAST-MODIFIED:20250130T182026Z
UID:880-1751306400-1751317200@thepicklesnation.com
SUMMARY:TMT @ The OC
DESCRIPTION:
URL:https://thepicklesnation.com/event/tmt-the-oc-47/
END:VEVENT
BEGIN:VEVENT
DTSTART;TZID=America/New_York:20250628T183000
DTEND;TZID=America/New_York:20250628T213000
DTSTAMP:20260420T140714
CREATED:20250130T190409Z
LAST-MODIFIED:20250130T190409Z
UID:1050-1751135400-1751146200@thepicklesnation.com
SUMMARY:Full Band @ MJ's Bayville
DESCRIPTION:
URL:https://thepicklesnation.com/event/full-band-mjs-bayville-3/
END:VEVENT
BEGIN:VEVENT
DTSTART;TZID=America/New_York:20250627T130000
DTEND;TZID=America/New_York:20250627T230000
DTSTAMP:20260420T140714
CREATED:20250130T190335Z
LAST-MODIFIED:20250130T190335Z
UID:1048-1751029200-1751065200@thepicklesnation.com
SUMMARY:Full Band @ Wedding
DESCRIPTION:
URL:https://thepicklesnation.com/event/full-band-wedding-6/
END:VEVENT
BEGIN:VEVENT
DTSTART;TZID=America/New_York:20250625T193000
DTEND;TZID=America/New_York:20250625T210000
DTSTAMP:20260420T140714
CREATED:20250130T184513Z
LAST-MODIFIED:20250130T184513Z
UID:981-1750879800-1750885200@thepicklesnation.com
SUMMARY:Full Band @ Veteran's Park Beach Haven
DESCRIPTION:
URL:https://thepicklesnation.com/event/full-band-veterans-park-beach-haven/
END:VEVENT
BEGIN:VEVENT
DTSTART;TZID=America/New_York:20250625T140000
DTEND;TZID=America/New_York:20250625T170000
DTSTAMP:20260420T140714
CREATED:20250130T183824Z
LAST-MODIFIED:20250130T183824Z
UID:952-1750860000-1750870800@thepicklesnation.com
SUMMARY:Duo @ The Sea Shell
DESCRIPTION:
URL:https://thepicklesnation.com/event/duo-the-sea-shell-24/
END:VEVENT
BEGIN:VEVENT
DTSTART;TZID=America/New_York:20250624T190000
DTEND;TZID=America/New_York:20250624T220000
DTSTAMP:20260420T140714
CREATED:20250130T182845Z
LAST-MODIFIED:20250130T182845Z
UID:914-1750791600-1750802400@thepicklesnation.com
SUMMARY:The Pickles n Friends @ Calloways
DESCRIPTION:
URL:https://thepicklesnation.com/event/the-pickles-n-friends-calloways-25/
END:VEVENT
END:VCALENDAR