BEGIN:VCALENDAR
VERSION:2.0
PRODID:-//The Pickles Nation - ECPv6.15.20//NONSGML v1.0//EN
CALSCALE:GREGORIAN
METHOD:PUBLISH
X-WR-CALNAME:The Pickles Nation
X-ORIGINAL-URL:https://thepicklesnation.com
X-WR-CALDESC:Events for The Pickles Nation
REFRESH-INTERVAL;VALUE=DURATION:PT1H
X-Robots-Tag:noindex
X-PUBLISHED-TTL:PT1H
BEGIN:VTIMEZONE
TZID:America/New_York
BEGIN:DAYLIGHT
TZOFFSETFROM:-0500
TZOFFSETTO:-0400
TZNAME:EDT
DTSTART:20240310T070000
END:DAYLIGHT
BEGIN:STANDARD
TZOFFSETFROM:-0400
TZOFFSETTO:-0500
TZNAME:EST
DTSTART:20241103T060000
END:STANDARD
BEGIN:DAYLIGHT
TZOFFSETFROM:-0500
TZOFFSETTO:-0400
TZNAME:EDT
DTSTART:20250309T070000
END:DAYLIGHT
BEGIN:STANDARD
TZOFFSETFROM:-0400
TZOFFSETTO:-0500
TZNAME:EST
DTSTART:20251102T060000
END:STANDARD
BEGIN:DAYLIGHT
TZOFFSETFROM:-0500
TZOFFSETTO:-0400
TZNAME:EDT
DTSTART:20260308T070000
END:DAYLIGHT
BEGIN:STANDARD
TZOFFSETFROM:-0400
TZOFFSETTO:-0500
TZNAME:EST
DTSTART:20261101T060000
END:STANDARD
END:VTIMEZONE
BEGIN:VEVENT
DTSTART;TZID=America/New_York:20250909T190000
DTEND;TZID=America/New_York:20250909T220000
DTSTAMP:20260420T100748
CREATED:20250818T155738Z
LAST-MODIFIED:20250818T155738Z
UID:1170-1757444400-1757455200@thepicklesnation.com
SUMMARY:The Pickles & Friends @ Calloway's
DESCRIPTION:
URL:https://thepicklesnation.com/event/the-pickles-friends-calloways/
END:VEVENT
BEGIN:VEVENT
DTSTART;TZID=America/New_York:20250908T180000
DTEND;TZID=America/New_York:20250908T210000
DTSTAMP:20260420T100748
CREATED:20250818T161312Z
LAST-MODIFIED:20250818T161312Z
UID:1216-1757354400-1757365200@thepicklesnation.com
SUMMARY:Fishing for Turtles @ The OC
DESCRIPTION:
URL:https://thepicklesnation.com/event/fishing-for-turtles-the-oc/
END:VEVENT
BEGIN:VEVENT
DTSTART;TZID=America/New_York:20250906T170000
DTEND;TZID=America/New_York:20250906T210000
DTSTAMP:20260420T100748
CREATED:20250701T144943Z
LAST-MODIFIED:20250904T214413Z
UID:1155-1757178000-1757192400@thepicklesnation.com
SUMMARY:Duo @ Private Party
DESCRIPTION:
URL:https://thepicklesnation.com/event/duo-private-party-10/
END:VEVENT
BEGIN:VEVENT
DTSTART;TZID=America/New_York:20250905T180000
DTEND;TZID=America/New_York:20250905T210000
DTSTAMP:20260420T100748
CREATED:20250701T145015Z
LAST-MODIFIED:20250701T145015Z
UID:1157-1757095200-1757106000@thepicklesnation.com
SUMMARY:Duo @ DaddyO
DESCRIPTION:
URL:https://thepicklesnation.com/event/duo-daddyo-39/
END:VEVENT
BEGIN:VEVENT
DTSTART;TZID=America/New_York:20250903T140000
DTEND;TZID=America/New_York:20250903T170000
DTSTAMP:20260420T100748
CREATED:20250130T184224Z
LAST-MODIFIED:20250130T184224Z
UID:971-1756908000-1756918800@thepicklesnation.com
SUMMARY:Duo @ The Sea Shell
DESCRIPTION:
URL:https://thepicklesnation.com/event/duo-the-sea-shell-33/
END:VEVENT
BEGIN:VEVENT
DTSTART;TZID=America/New_York:20250902T190000
DTEND;TZID=America/New_York:20250902T220000
DTSTAMP:20260420T100748
CREATED:20250130T183303Z
LAST-MODIFIED:20250130T183303Z
UID:934-1756839600-1756850400@thepicklesnation.com
SUMMARY:The Pickles n Friends @ Calloways
DESCRIPTION:
URL:https://thepicklesnation.com/event/the-pickles-n-friends-calloways-35/
END:VEVENT
BEGIN:VEVENT
DTSTART;TZID=America/New_York:20250901T150000
DTEND;TZID=America/New_York:20250901T190000
DTSTAMP:20260420T100748
CREATED:20250130T182417Z
LAST-MODIFIED:20250130T191202Z
UID:898-1756738800-1756753200@thepicklesnation.com
SUMMARY:Trio @ MJ's Bayville
DESCRIPTION:
URL:https://thepicklesnation.com/event/tmt-the-oc-56/
END:VEVENT
BEGIN:VEVENT
DTSTART;TZID=America/New_York:20250831T180000
DTEND;TZID=America/New_York:20250831T220000
DTSTAMP:20260420T100748
CREATED:20250818T155256Z
LAST-MODIFIED:20250818T155441Z
UID:1168-1756663200-1756677600@thepicklesnation.com
SUMMARY:Full Band @ Private Party
DESCRIPTION:
URL:https://thepicklesnation.com/event/full-band-private-party-7/
END:VEVENT
BEGIN:VEVENT
DTSTART;TZID=America/New_York:20250830T180000
DTEND;TZID=America/New_York:20250830T220000
DTSTAMP:20260420T100748
CREATED:20250130T191058Z
LAST-MODIFIED:20250130T191058Z
UID:1072-1756576800-1756591200@thepicklesnation.com
SUMMARY:Full Band @ The Waterfront
DESCRIPTION:
URL:https://thepicklesnation.com/event/full-band-the-waterfront/
END:VEVENT
BEGIN:VEVENT
DTSTART;TZID=America/New_York:20250829T140000
DTEND;TZID=America/New_York:20250829T170000
DTSTAMP:20260420T100748
CREATED:20250130T185318Z
LAST-MODIFIED:20250818T155018Z
UID:1018-1756476000-1756486800@thepicklesnation.com
SUMMARY:Trio @ The Sea Shell
DESCRIPTION:
URL:https://thepicklesnation.com/event/trio-w-ted-hammock-the-sea-shell-9/
END:VEVENT
BEGIN:VEVENT
DTSTART;TZID=America/New_York:20250827T200000
DTEND;TZID=America/New_York:20250827T230000
DTSTAMP:20260420T100748
CREATED:20250130T184820Z
LAST-MODIFIED:20250130T184820Z
UID:999-1756324800-1756335600@thepicklesnation.com
SUMMARY:Duo @ The Sea Shell
DESCRIPTION:
URL:https://thepicklesnation.com/event/duo-the-sea-shell-46/
END:VEVENT
BEGIN:VEVENT
DTSTART;TZID=America/New_York:20250827T140000
DTEND;TZID=America/New_York:20250827T170000
DTSTAMP:20260420T100748
CREATED:20250130T184358Z
LAST-MODIFIED:20250130T184358Z
UID:979-1756303200-1756314000@thepicklesnation.com
SUMMARY:Duo @ The Sea Shell
DESCRIPTION:
URL:https://thepicklesnation.com/event/duo-the-sea-shell-37/
END:VEVENT
BEGIN:VEVENT
DTSTART;TZID=America/New_York:20250826T190000
DTEND;TZID=America/New_York:20250826T220000
DTSTAMP:20260420T100748
CREATED:20250130T183232Z
LAST-MODIFIED:20250130T183232Z
UID:932-1756234800-1756245600@thepicklesnation.com
SUMMARY:The Pickles n Friends @ Calloways
DESCRIPTION:
URL:https://thepicklesnation.com/event/the-pickles-n-friends-calloways-34/
END:VEVENT
BEGIN:VEVENT
DTSTART;TZID=America/New_York:20250825T180000
DTEND;TZID=America/New_York:20250825T210000
DTSTAMP:20260420T100748
CREATED:20250130T182354Z
LAST-MODIFIED:20250818T161108Z
UID:896-1756144800-1756155600@thepicklesnation.com
SUMMARY:Fishing for Turtles @ The OC
DESCRIPTION:
URL:https://thepicklesnation.com/event/tmt-the-oc-55/
END:VEVENT
BEGIN:VEVENT
DTSTART;TZID=America/New_York:20250823T180000
DTEND;TZID=America/New_York:20250823T210000
DTSTAMP:20260420T100748
CREATED:20250404T191953Z
LAST-MODIFIED:20250404T191953Z
UID:1103-1755972000-1755982800@thepicklesnation.com
SUMMARY:Private Party
DESCRIPTION:
URL:https://thepicklesnation.com/event/private-party-4/
END:VEVENT
BEGIN:VEVENT
DTSTART;TZID=America/New_York:20250822T140000
DTEND;TZID=America/New_York:20250822T170000
DTSTAMP:20260420T100748
CREATED:20250130T185258Z
LAST-MODIFIED:20250818T154916Z
UID:1016-1755871200-1755882000@thepicklesnation.com
SUMMARY:Trio @ The Sea Shell
DESCRIPTION:
URL:https://thepicklesnation.com/event/trio-w-ted-hammock-the-sea-shell-8/
END:VEVENT
BEGIN:VEVENT
DTSTART;TZID=America/New_York:20250820T200000
DTEND;TZID=America/New_York:20250820T230000
DTSTAMP:20260420T100748
CREATED:20250130T184800Z
LAST-MODIFIED:20250130T184800Z
UID:997-1755720000-1755730800@thepicklesnation.com
SUMMARY:Duo @ The Sea Shell
DESCRIPTION:
URL:https://thepicklesnation.com/event/duo-the-sea-shell-45/
END:VEVENT
BEGIN:VEVENT
DTSTART;TZID=America/New_York:20250820T140000
DTEND;TZID=America/New_York:20250820T170000
DTSTAMP:20260420T100748
CREATED:20250130T184149Z
LAST-MODIFIED:20250130T184149Z
UID:968-1755698400-1755709200@thepicklesnation.com
SUMMARY:Duo @ The Sea Shell
DESCRIPTION:
URL:https://thepicklesnation.com/event/duo-the-sea-shell-32/
END:VEVENT
BEGIN:VEVENT
DTSTART;TZID=America/New_York:20250819T190000
DTEND;TZID=America/New_York:20250819T220000
DTSTAMP:20260420T100748
CREATED:20250130T183211Z
LAST-MODIFIED:20250130T183211Z
UID:930-1755630000-1755640800@thepicklesnation.com
SUMMARY:The Pickles n Friends @ Calloways
DESCRIPTION:
URL:https://thepicklesnation.com/event/the-pickles-n-friends-calloways-33/
END:VEVENT
BEGIN:VEVENT
DTSTART;TZID=America/New_York:20250818T180000
DTEND;TZID=America/New_York:20250818T210000
DTSTAMP:20260420T100748
CREATED:20250130T182333Z
LAST-MODIFIED:20250818T161140Z
UID:894-1755540000-1755550800@thepicklesnation.com
SUMMARY:Fishing for Turtles @ The OC
DESCRIPTION:
URL:https://thepicklesnation.com/event/tmt-the-oc-54/
END:VEVENT
BEGIN:VEVENT
DTSTART;TZID=America/New_York:20250817T140000
DTEND;TZID=America/New_York:20250817T180000
DTSTAMP:20260420T100748
CREATED:20250521T205159Z
LAST-MODIFIED:20250521T205159Z
UID:1121-1755439200-1755453600@thepicklesnation.com
SUMMARY:Full Band @ The Howell Swim Club
DESCRIPTION:
URL:https://thepicklesnation.com/event/full-band-the-howell-swim-club/
END:VEVENT
BEGIN:VEVENT
DTSTART;TZID=America/New_York:20250816T190000
DTEND;TZID=America/New_York:20250816T230000
DTSTAMP:20260420T100748
CREATED:20250404T191722Z
LAST-MODIFIED:20250404T191805Z
UID:1101-1755370800-1755385200@thepicklesnation.com
SUMMARY:Private Party
DESCRIPTION:Full Band
URL:https://thepicklesnation.com/event/private-party-3/
END:VEVENT
BEGIN:VEVENT
DTSTART;TZID=America/New_York:20250816T130000
DTEND;TZID=America/New_York:20250816T160000
DTSTAMP:20260420T100748
CREATED:20250521T205244Z
LAST-MODIFIED:20250521T205244Z
UID:1123-1755349200-1755360000@thepicklesnation.com
SUMMARY:Duo @ Private Party
DESCRIPTION:
URL:https://thepicklesnation.com/event/duo-private-party-9/
END:VEVENT
BEGIN:VEVENT
DTSTART;TZID=America/New_York:20250815T220000
DTEND;TZID=America/New_York:20250815T233000
DTSTAMP:20260420T100748
CREATED:20250130T190928Z
LAST-MODIFIED:20250130T190928Z
UID:1068-1755295200-1755300600@thepicklesnation.com
SUMMARY:Full Band @ Nardi's
DESCRIPTION:
URL:https://thepicklesnation.com/event/full-band-nardis-5/
END:VEVENT
BEGIN:VEVENT
DTSTART;TZID=America/New_York:20250815T140000
DTEND;TZID=America/New_York:20250815T170000
DTSTAMP:20260420T100748
CREATED:20250130T185241Z
LAST-MODIFIED:20250130T185241Z
UID:1014-1755266400-1755277200@thepicklesnation.com
SUMMARY:Trio w/ Ted Hammock @ The Sea Shell
DESCRIPTION:
URL:https://thepicklesnation.com/event/trio-w-ted-hammock-the-sea-shell-7/
END:VEVENT
BEGIN:VEVENT
DTSTART;TZID=America/New_York:20250813T200000
DTEND;TZID=America/New_York:20250813T230000
DTSTAMP:20260420T100748
CREATED:20250130T184741Z
LAST-MODIFIED:20250130T184741Z
UID:995-1755115200-1755126000@thepicklesnation.com
SUMMARY:Duo @ The Sea Shell
DESCRIPTION:
URL:https://thepicklesnation.com/event/duo-the-sea-shell-44/
END:VEVENT
BEGIN:VEVENT
DTSTART;TZID=America/New_York:20250813T140000
DTEND;TZID=America/New_York:20250813T170000
DTSTAMP:20260420T100748
CREATED:20250130T184131Z
LAST-MODIFIED:20250130T184131Z
UID:966-1755093600-1755104400@thepicklesnation.com
SUMMARY:Duo @ The Sea Shell
DESCRIPTION:
URL:https://thepicklesnation.com/event/duo-the-sea-shell-31/
END:VEVENT
BEGIN:VEVENT
DTSTART;TZID=America/New_York:20250812T170000
DTEND;TZID=America/New_York:20250812T200000
DTSTAMP:20260420T100748
CREATED:20250130T183148Z
LAST-MODIFIED:20250521T205405Z
UID:928-1755018000-1755028800@thepicklesnation.com
SUMMARY:Duo @ Private Party
DESCRIPTION:
URL:https://thepicklesnation.com/event/the-pickles-n-friends-calloways-32/
END:VEVENT
BEGIN:VEVENT
DTSTART;TZID=America/New_York:20250811T180000
DTEND;TZID=America/New_York:20250811T210000
DTSTAMP:20260420T100748
CREATED:20250130T182257Z
LAST-MODIFIED:20250130T182257Z
UID:892-1754935200-1754946000@thepicklesnation.com
SUMMARY:TMT @ The OC
DESCRIPTION:
URL:https://thepicklesnation.com/event/tmt-the-oc-53/
END:VEVENT
BEGIN:VEVENT
DTSTART;TZID=America/New_York:20250809T190000
DTEND;TZID=America/New_York:20250809T220000
DTSTAMP:20260420T100748
CREATED:20250404T191638Z
LAST-MODIFIED:20250404T191638Z
UID:1099-1754766000-1754776800@thepicklesnation.com
SUMMARY:Duo @ DaddyO
DESCRIPTION:
URL:https://thepicklesnation.com/event/duo-daddyo-38/
END:VEVENT
END:VCALENDAR