BEGIN:VCALENDAR
VERSION:2.0
PRODID:-//The Pickles Nation - ECPv6.15.20//NONSGML v1.0//EN
CALSCALE:GREGORIAN
METHOD:PUBLISH
X-WR-CALNAME:The Pickles Nation
X-ORIGINAL-URL:https://thepicklesnation.com
X-WR-CALDESC:Events for The Pickles Nation
REFRESH-INTERVAL;VALUE=DURATION:PT1H
X-Robots-Tag:noindex
X-PUBLISHED-TTL:PT1H
BEGIN:VTIMEZONE
TZID:America/New_York
BEGIN:DAYLIGHT
TZOFFSETFROM:-0500
TZOFFSETTO:-0400
TZNAME:EDT
DTSTART:20250309T070000
END:DAYLIGHT
BEGIN:STANDARD
TZOFFSETFROM:-0400
TZOFFSETTO:-0500
TZNAME:EST
DTSTART:20251102T060000
END:STANDARD
BEGIN:DAYLIGHT
TZOFFSETFROM:-0500
TZOFFSETTO:-0400
TZNAME:EDT
DTSTART:20260308T070000
END:DAYLIGHT
BEGIN:STANDARD
TZOFFSETFROM:-0400
TZOFFSETTO:-0500
TZNAME:EST
DTSTART:20261101T060000
END:STANDARD
BEGIN:DAYLIGHT
TZOFFSETFROM:-0500
TZOFFSETTO:-0400
TZNAME:EDT
DTSTART:20270314T070000
END:DAYLIGHT
BEGIN:STANDARD
TZOFFSETFROM:-0400
TZOFFSETTO:-0500
TZNAME:EST
DTSTART:20271107T060000
END:STANDARD
END:VTIMEZONE
BEGIN:VEVENT
DTSTART;TZID=America/New_York:20260303T190000
DTEND;TZID=America/New_York:20260303T220000
DTSTAMP:20260420T074115
CREATED:20251202T171519Z
LAST-MODIFIED:20251202T171519Z
UID:1383-1772564400-1772575200@thepicklesnation.com
SUMMARY:The Pickles & Friends @ Calloway's Caddy Club
DESCRIPTION:
URL:https://thepicklesnation.com/event/the-pickles-friends-calloways-caddy-club-9/
END:VEVENT
BEGIN:VEVENT
DTSTART;TZID=America/New_York:20260305T180000
DTEND;TZID=America/New_York:20260305T210000
DTSTAMP:20260420T074115
CREATED:20251202T172632Z
LAST-MODIFIED:20251202T172632Z
UID:1427-1772733600-1772744400@thepicklesnation.com
SUMMARY:Duo @ Daddy O
DESCRIPTION:
URL:https://thepicklesnation.com/event/duo-daddy-o-10/
END:VEVENT
BEGIN:VEVENT
DTSTART;TZID=America/New_York:20260306T193000
DTEND;TZID=America/New_York:20260306T230000
DTSTAMP:20260420T074115
CREATED:20251202T180656Z
LAST-MODIFIED:20251202T180656Z
UID:1483-1772825400-1772838000@thepicklesnation.com
SUMMARY:Trio @ B Bar
DESCRIPTION:
URL:https://thepicklesnation.com/event/trio-b-bar/
END:VEVENT
BEGIN:VEVENT
DTSTART;TZID=America/New_York:20260307T170000
DTEND;TZID=America/New_York:20260307T210000
DTSTAMP:20260420T074115
CREATED:20251202T180829Z
LAST-MODIFIED:20251202T180829Z
UID:1485-1772902800-1772917200@thepicklesnation.com
SUMMARY:Duo @ Nardi's
DESCRIPTION:
URL:https://thepicklesnation.com/event/duo-nardis-5/
END:VEVENT
BEGIN:VEVENT
DTSTART;TZID=America/New_York:20260310T190000
DTEND;TZID=America/New_York:20260310T220000
DTSTAMP:20260420T074115
CREATED:20251202T171538Z
LAST-MODIFIED:20251202T171538Z
UID:1385-1773169200-1773180000@thepicklesnation.com
SUMMARY:The Pickles & Friends @ Calloway's Caddy Club
DESCRIPTION:
URL:https://thepicklesnation.com/event/the-pickles-friends-calloways-caddy-club-10/
END:VEVENT
BEGIN:VEVENT
DTSTART;TZID=America/New_York:20260312T180000
DTEND;TZID=America/New_York:20260312T210000
DTSTAMP:20260420T074115
CREATED:20251202T172653Z
LAST-MODIFIED:20251202T172653Z
UID:1429-1773338400-1773349200@thepicklesnation.com
SUMMARY:Duo @ Daddy O
DESCRIPTION:
URL:https://thepicklesnation.com/event/duo-daddy-o-11/
END:VEVENT
BEGIN:VEVENT
DTSTART;TZID=America/New_York:20260313T200000
DTEND;TZID=America/New_York:20260313T230000
DTSTAMP:20260420T074115
CREATED:20251202T180906Z
LAST-MODIFIED:20251202T180906Z
UID:1487-1773432000-1773442800@thepicklesnation.com
SUMMARY:Full Band @ Doyle's Barnegat
DESCRIPTION:
URL:https://thepicklesnation.com/event/full-band-doyles-barnegat-16/
END:VEVENT
BEGIN:VEVENT
DTSTART;TZID=America/New_York:20260317T190000
DTEND;TZID=America/New_York:20260317T220000
DTSTAMP:20260420T074115
CREATED:20251202T171558Z
LAST-MODIFIED:20251202T171558Z
UID:1387-1773774000-1773784800@thepicklesnation.com
SUMMARY:The Pickles & Friends @ Calloway's Caddy Club
DESCRIPTION:
URL:https://thepicklesnation.com/event/the-pickles-friends-calloways-caddy-club-11/
END:VEVENT
BEGIN:VEVENT
DTSTART;TZID=America/New_York:20260319T180000
DTEND;TZID=America/New_York:20260319T210000
DTSTAMP:20260420T074115
CREATED:20251202T172713Z
LAST-MODIFIED:20251202T172713Z
UID:1431-1773943200-1773954000@thepicklesnation.com
SUMMARY:Duo @ Daddy O
DESCRIPTION:
URL:https://thepicklesnation.com/event/duo-daddy-o-12/
END:VEVENT
BEGIN:VEVENT
DTSTART;TZID=America/New_York:20260320T190000
DTEND;TZID=America/New_York:20260320T220000
DTSTAMP:20260420T074115
CREATED:20251202T181017Z
LAST-MODIFIED:20251202T181017Z
UID:1491-1774033200-1774044000@thepicklesnation.com
SUMMARY:Duo @ Buckalew's
DESCRIPTION:
URL:https://thepicklesnation.com/event/duo-buckalews-11/
END:VEVENT
BEGIN:VEVENT
DTSTART;TZID=America/New_York:20260321T180000
DTEND;TZID=America/New_York:20260321T220000
DTSTAMP:20260420T074115
CREATED:20251202T181048Z
LAST-MODIFIED:20251202T181048Z
UID:1493-1774116000-1774130400@thepicklesnation.com
SUMMARY:Full Band @ Captain's Inn
DESCRIPTION:
URL:https://thepicklesnation.com/event/full-band-captains-inn-5/
END:VEVENT
BEGIN:VEVENT
DTSTART;TZID=America/New_York:20260324T190000
DTEND;TZID=America/New_York:20260324T220000
DTSTAMP:20260420T074115
CREATED:20251202T171618Z
LAST-MODIFIED:20251202T171618Z
UID:1389-1774378800-1774389600@thepicklesnation.com
SUMMARY:The Pickles & Friends @ Calloway's Caddy Club
DESCRIPTION:
URL:https://thepicklesnation.com/event/the-pickles-friends-calloways-caddy-club-12/
END:VEVENT
BEGIN:VEVENT
DTSTART;TZID=America/New_York:20260326T180000
DTEND;TZID=America/New_York:20260326T210000
DTSTAMP:20260420T074115
CREATED:20251202T172734Z
LAST-MODIFIED:20251202T172734Z
UID:1433-1774548000-1774558800@thepicklesnation.com
SUMMARY:Duo @ Daddy O
DESCRIPTION:
URL:https://thepicklesnation.com/event/duo-daddy-o-13/
END:VEVENT
BEGIN:VEVENT
DTSTART;TZID=America/New_York:20260327T180000
DTEND;TZID=America/New_York:20260327T220000
DTSTAMP:20260420T074115
CREATED:20251202T181134Z
LAST-MODIFIED:20251202T181134Z
UID:1495-1774634400-1774648800@thepicklesnation.com
SUMMARY:Full Band @ Sun Harbor
DESCRIPTION:
URL:https://thepicklesnation.com/event/full-band-sun-harbor-7/
END:VEVENT
BEGIN:VEVENT
DTSTART;TZID=America/New_York:20260328T180000
DTEND;TZID=America/New_York:20260328T210000
DTSTAMP:20260420T074115
CREATED:20251202T181159Z
LAST-MODIFIED:20251202T181159Z
UID:1497-1774720800-1774731600@thepicklesnation.com
SUMMARY:Duo @ The Mainland
DESCRIPTION:
URL:https://thepicklesnation.com/event/duo-the-mainland-10/
END:VEVENT
BEGIN:VEVENT
DTSTART;TZID=America/New_York:20260331T190000
DTEND;TZID=America/New_York:20260331T220000
DTSTAMP:20260420T074115
CREATED:20251202T171639Z
LAST-MODIFIED:20251202T171639Z
UID:1391-1774983600-1774994400@thepicklesnation.com
SUMMARY:The Pickles & Friends @ Calloway's Caddy Club
DESCRIPTION:
URL:https://thepicklesnation.com/event/the-pickles-friends-calloways-caddy-club-13/
END:VEVENT
BEGIN:VEVENT
DTSTART;TZID=America/New_York:20260402T180000
DTEND;TZID=America/New_York:20260402T210000
DTSTAMP:20260420T074115
CREATED:20251202T172819Z
LAST-MODIFIED:20251202T172819Z
UID:1435-1775152800-1775163600@thepicklesnation.com
SUMMARY:Duo @ Daddy O
DESCRIPTION:
URL:https://thepicklesnation.com/event/duo-daddy-o-14/
END:VEVENT
BEGIN:VEVENT
DTSTART;TZID=America/New_York:20260403T190000
DTEND;TZID=America/New_York:20260403T220000
DTSTAMP:20260420T074115
CREATED:20251202T181347Z
LAST-MODIFIED:20251202T181347Z
UID:1501-1775242800-1775253600@thepicklesnation.com
SUMMARY:Duo @ Buckalew's
DESCRIPTION:
URL:https://thepicklesnation.com/event/duo-buckalews-12/
END:VEVENT
BEGIN:VEVENT
DTSTART;TZID=America/New_York:20260404T200000
DTEND;TZID=America/New_York:20260404T230000
DTSTAMP:20260420T074115
CREATED:20251202T181422Z
LAST-MODIFIED:20251202T181422Z
UID:1503-1775332800-1775343600@thepicklesnation.com
SUMMARY:Full Band @ Doyle's Barnegat
DESCRIPTION:
URL:https://thepicklesnation.com/event/full-band-doyles-barnegat-17/
END:VEVENT
BEGIN:VEVENT
DTSTART;TZID=America/New_York:20260407T190000
DTEND;TZID=America/New_York:20260407T220000
DTSTAMP:20260420T074115
CREATED:20251202T171816Z
LAST-MODIFIED:20251202T171816Z
UID:1393-1775588400-1775599200@thepicklesnation.com
SUMMARY:The Pickles & Friends @ Calloway's Caddy Club
DESCRIPTION:
URL:https://thepicklesnation.com/event/the-pickles-friends-calloways-caddy-club-14/
END:VEVENT
BEGIN:VEVENT
DTSTART;TZID=America/New_York:20260409T180000
DTEND;TZID=America/New_York:20260409T210000
DTSTAMP:20260420T074115
CREATED:20251202T172840Z
LAST-MODIFIED:20251202T172840Z
UID:1437-1775757600-1775768400@thepicklesnation.com
SUMMARY:Duo @ Daddy O
DESCRIPTION:
URL:https://thepicklesnation.com/event/duo-daddy-o-15/
END:VEVENT
BEGIN:VEVENT
DTSTART;TZID=America/New_York:20260410T180000
DTEND;TZID=America/New_York:20260410T220000
DTSTAMP:20260420T074115
CREATED:20251202T181450Z
LAST-MODIFIED:20251202T181450Z
UID:1505-1775844000-1775858400@thepicklesnation.com
SUMMARY:Full Band @ Sun Harbor
DESCRIPTION:
URL:https://thepicklesnation.com/event/full-band-sun-harbor-9/
END:VEVENT
BEGIN:VEVENT
DTSTART;TZID=America/New_York:20260411T180000
DTEND;TZID=America/New_York:20260411T210000
DTSTAMP:20260420T074115
CREATED:20260314T161556Z
LAST-MODIFIED:20260314T161556Z
UID:1613-1775930400-1775941200@thepicklesnation.com
SUMMARY:Full Band @ Four Seasons Harbor Bay
DESCRIPTION:
URL:https://thepicklesnation.com/event/full-band-four-seasons-harbor-bay/
END:VEVENT
BEGIN:VEVENT
DTSTART;TZID=America/New_York:20260414T190000
DTEND;TZID=America/New_York:20260414T220000
DTSTAMP:20260420T074115
CREATED:20251202T171836Z
LAST-MODIFIED:20251202T171836Z
UID:1395-1776193200-1776204000@thepicklesnation.com
SUMMARY:The Pickles & Friends @ Calloway's Caddy Club
DESCRIPTION:
URL:https://thepicklesnation.com/event/the-pickles-friends-calloways-caddy-club-15/
END:VEVENT
BEGIN:VEVENT
DTSTART;TZID=America/New_York:20260416T180000
DTEND;TZID=America/New_York:20260416T210000
DTSTAMP:20260420T074115
CREATED:20251202T172903Z
LAST-MODIFIED:20251202T172903Z
UID:1439-1776362400-1776373200@thepicklesnation.com
SUMMARY:Duo @ Daddy O
DESCRIPTION:
URL:https://thepicklesnation.com/event/duo-daddy-o-16/
END:VEVENT
BEGIN:VEVENT
DTSTART;TZID=America/New_York:20260417T180000
DTEND;TZID=America/New_York:20260417T220000
DTSTAMP:20260420T074115
CREATED:20251202T181610Z
LAST-MODIFIED:20251202T181610Z
UID:1509-1776448800-1776463200@thepicklesnation.com
SUMMARY:Full Band @ Captain's Inn
DESCRIPTION:
URL:https://thepicklesnation.com/event/full-band-captains-inn-6/
END:VEVENT
BEGIN:VEVENT
DTSTART;TZID=America/New_York:20260418T180000
DTEND;TZID=America/New_York:20260418T210000
DTSTAMP:20260420T074115
CREATED:20251202T181635Z
LAST-MODIFIED:20251202T181635Z
UID:1511-1776535200-1776546000@thepicklesnation.com
SUMMARY:Duo @ The Mainland
DESCRIPTION:
URL:https://thepicklesnation.com/event/duo-the-mainland-11/
END:VEVENT
BEGIN:VEVENT
DTSTART;TZID=America/New_York:20260421T190000
DTEND;TZID=America/New_York:20260421T220000
DTSTAMP:20260420T074115
CREATED:20251202T171856Z
LAST-MODIFIED:20251202T171856Z
UID:1397-1776798000-1776808800@thepicklesnation.com
SUMMARY:The Pickles & Friends @ Calloway's Caddy Club
DESCRIPTION:
URL:https://thepicklesnation.com/event/the-pickles-friends-calloways-caddy-club-16/
END:VEVENT
BEGIN:VEVENT
DTSTART;TZID=America/New_York:20260423T180000
DTEND;TZID=America/New_York:20260423T210000
DTSTAMP:20260420T074115
CREATED:20251202T172922Z
LAST-MODIFIED:20251202T172922Z
UID:1441-1776967200-1776978000@thepicklesnation.com
SUMMARY:Duo @ Daddy O
DESCRIPTION:
URL:https://thepicklesnation.com/event/duo-daddy-o-17/
END:VEVENT
BEGIN:VEVENT
DTSTART;TZID=America/New_York:20260424T140000
DTEND;TZID=America/New_York:20260425T190000
DTSTAMP:20260420T074115
CREATED:20251202T181720Z
LAST-MODIFIED:20260216T153823Z
UID:1513-1777039200-1777143600@thepicklesnation.com
SUMMARY:Duo in Emerald Isle NC
DESCRIPTION:
URL:https://thepicklesnation.com/event/duo-in-panama-city/
END:VEVENT
END:VCALENDAR