BEGIN:VCALENDAR
VERSION:2.0
PRODID:-//The Pickles Nation - ECPv6.15.20//NONSGML v1.0//EN
CALSCALE:GREGORIAN
METHOD:PUBLISH
X-WR-CALNAME:The Pickles Nation
X-ORIGINAL-URL:https://thepicklesnation.com
X-WR-CALDESC:Events for The Pickles Nation
REFRESH-INTERVAL;VALUE=DURATION:PT1H
X-Robots-Tag:noindex
X-PUBLISHED-TTL:PT1H
BEGIN:VTIMEZONE
TZID:America/New_York
BEGIN:DAYLIGHT
TZOFFSETFROM:-0500
TZOFFSETTO:-0400
TZNAME:EDT
DTSTART:20240310T070000
END:DAYLIGHT
BEGIN:STANDARD
TZOFFSETFROM:-0400
TZOFFSETTO:-0500
TZNAME:EST
DTSTART:20241103T060000
END:STANDARD
BEGIN:DAYLIGHT
TZOFFSETFROM:-0500
TZOFFSETTO:-0400
TZNAME:EDT
DTSTART:20250309T070000
END:DAYLIGHT
BEGIN:STANDARD
TZOFFSETFROM:-0400
TZOFFSETTO:-0500
TZNAME:EST
DTSTART:20251102T060000
END:STANDARD
BEGIN:DAYLIGHT
TZOFFSETFROM:-0500
TZOFFSETTO:-0400
TZNAME:EDT
DTSTART:20260308T070000
END:DAYLIGHT
BEGIN:STANDARD
TZOFFSETFROM:-0400
TZOFFSETTO:-0500
TZNAME:EST
DTSTART:20261101T060000
END:STANDARD
END:VTIMEZONE
BEGIN:VEVENT
DTSTART;TZID=America/New_York:20250628T183000
DTEND;TZID=America/New_York:20250628T213000
DTSTAMP:20260420T200646
CREATED:20250130T190409Z
LAST-MODIFIED:20250130T190409Z
UID:1050-1751135400-1751146200@thepicklesnation.com
SUMMARY:Full Band @ MJ's Bayville
DESCRIPTION:
URL:https://thepicklesnation.com/event/full-band-mjs-bayville-3/
END:VEVENT
BEGIN:VEVENT
DTSTART;TZID=America/New_York:20250627T130000
DTEND;TZID=America/New_York:20250627T230000
DTSTAMP:20260420T200646
CREATED:20250130T190335Z
LAST-MODIFIED:20250130T190335Z
UID:1048-1751029200-1751065200@thepicklesnation.com
SUMMARY:Full Band @ Wedding
DESCRIPTION:
URL:https://thepicklesnation.com/event/full-band-wedding-6/
END:VEVENT
BEGIN:VEVENT
DTSTART;TZID=America/New_York:20250625T193000
DTEND;TZID=America/New_York:20250625T210000
DTSTAMP:20260420T200647
CREATED:20250130T184513Z
LAST-MODIFIED:20250130T184513Z
UID:981-1750879800-1750885200@thepicklesnation.com
SUMMARY:Full Band @ Veteran's Park Beach Haven
DESCRIPTION:
URL:https://thepicklesnation.com/event/full-band-veterans-park-beach-haven/
END:VEVENT
BEGIN:VEVENT
DTSTART;TZID=America/New_York:20250625T140000
DTEND;TZID=America/New_York:20250625T170000
DTSTAMP:20260420T200647
CREATED:20250130T183824Z
LAST-MODIFIED:20250130T183824Z
UID:952-1750860000-1750870800@thepicklesnation.com
SUMMARY:Duo @ The Sea Shell
DESCRIPTION:
URL:https://thepicklesnation.com/event/duo-the-sea-shell-24/
END:VEVENT
BEGIN:VEVENT
DTSTART;TZID=America/New_York:20250624T190000
DTEND;TZID=America/New_York:20250624T220000
DTSTAMP:20260420T200647
CREATED:20250130T182845Z
LAST-MODIFIED:20250130T182845Z
UID:914-1750791600-1750802400@thepicklesnation.com
SUMMARY:The Pickles n Friends @ Calloways
DESCRIPTION:
URL:https://thepicklesnation.com/event/the-pickles-n-friends-calloways-25/
END:VEVENT
BEGIN:VEVENT
DTSTART;TZID=America/New_York:20250623T180000
DTEND;TZID=America/New_York:20250623T210000
DTSTAMP:20260420T200647
CREATED:20250130T182000Z
LAST-MODIFIED:20250130T182000Z
UID:878-1750701600-1750712400@thepicklesnation.com
SUMMARY:TMT @ The OC
DESCRIPTION:
URL:https://thepicklesnation.com/event/tmt-the-oc-46/
END:VEVENT
BEGIN:VEVENT
DTSTART;TZID=America/New_York:20250622T120000
DTEND;TZID=America/New_York:20250622T170000
DTSTAMP:20260420T200647
CREATED:20250521T204146Z
LAST-MODIFIED:20250521T204146Z
UID:1109-1750593600-1750611600@thepicklesnation.com
SUMMARY:Hearts of Mercy Fundraiser @ Beach Haven Moose
DESCRIPTION:
URL:https://thepicklesnation.com/event/hearts-of-mercy-fundraiser-beach-haven-moose/
END:VEVENT
BEGIN:VEVENT
DTSTART;TZID=America/New_York:20250621T180000
DTEND;TZID=America/New_York:20250621T220000
DTSTAMP:20260420T200647
CREATED:20250130T190309Z
LAST-MODIFIED:20250130T190309Z
UID:1046-1750528800-1750543200@thepicklesnation.com
SUMMARY:Full Band @ Private Party
DESCRIPTION:
URL:https://thepicklesnation.com/event/full-band-private-party-5/
END:VEVENT
BEGIN:VEVENT
DTSTART;TZID=America/New_York:20250620T190000
DTEND;TZID=America/New_York:20250620T220000
DTSTAMP:20260420T200647
CREATED:20250404T190948Z
LAST-MODIFIED:20250404T190948Z
UID:1088-1750446000-1750456800@thepicklesnation.com
SUMMARY:Tuckers Tavern
DESCRIPTION:
URL:https://thepicklesnation.com/event/tuckers-tavern/
END:VEVENT
BEGIN:VEVENT
DTSTART;TZID=America/New_York:20250620T120000
DTEND;TZID=America/New_York:20250620T160000
DTSTAMP:20260420T200647
CREATED:20250404T190914Z
LAST-MODIFIED:20250521T204452Z
UID:1086-1750420800-1750435200@thepicklesnation.com
SUMMARY:Trio @ AVA Beach Bar
DESCRIPTION:Boose\, John\, & Todd
URL:https://thepicklesnation.com/event/trio-the-avenue-in-long-branch/
END:VEVENT
BEGIN:VEVENT
DTSTART;TZID=America/New_York:20250619T173000
DTEND;TZID=America/New_York:20250619T193000
DTSTAMP:20260420T200647
CREATED:20250130T183656Z
LAST-MODIFIED:20250521T203913Z
UID:950-1750354200-1750361400@thepicklesnation.com
SUMMARY:Fundraiser @ The Gables
DESCRIPTION:
URL:https://thepicklesnation.com/event/duo-daddyo-37/
END:VEVENT
BEGIN:VEVENT
DTSTART;TZID=America/New_York:20250617T190000
DTEND;TZID=America/New_York:20250617T220000
DTSTAMP:20260420T200647
CREATED:20250130T182816Z
LAST-MODIFIED:20250130T182816Z
UID:912-1750186800-1750197600@thepicklesnation.com
SUMMARY:The Pickles n Friends @ Calloways
DESCRIPTION:
URL:https://thepicklesnation.com/event/the-pickles-n-friends-calloways-24/
END:VEVENT
BEGIN:VEVENT
DTSTART;TZID=America/New_York:20250616T180000
DTEND;TZID=America/New_York:20250616T210000
DTSTAMP:20260420T200647
CREATED:20250130T181805Z
LAST-MODIFIED:20250130T181805Z
UID:876-1750096800-1750107600@thepicklesnation.com
SUMMARY:TMT @ The OC
DESCRIPTION:
URL:https://thepicklesnation.com/event/tmt-the-oc-45/
END:VEVENT
BEGIN:VEVENT
DTSTART;TZID=America/New_York:20250615T143000
DTEND;TZID=America/New_York:20250615T173000
DTSTAMP:20260420T200647
CREATED:20250404T190641Z
LAST-MODIFIED:20250404T190641Z
UID:1082-1749997800-1750008600@thepicklesnation.com
SUMMARY:Private Party
DESCRIPTION:John\, Todd\, Fisher\, Charlie
URL:https://thepicklesnation.com/event/private-party/
END:VEVENT
BEGIN:VEVENT
DTSTART;TZID=America/New_York:20250614T170000
DTEND;TZID=America/New_York:20250614T210000
DTSTAMP:20260420T200647
CREATED:20250404T190816Z
LAST-MODIFIED:20250404T190816Z
UID:1084-1749920400-1749934800@thepicklesnation.com
SUMMARY:Private Event
DESCRIPTION:Full Band @ BH Marlin Tuna Club
URL:https://thepicklesnation.com/event/private-event/
END:VEVENT
BEGIN:VEVENT
DTSTART;TZID=America/New_York:20250613T200000
DTEND;TZID=America/New_York:20250613T230000
DTSTAMP:20260420T200647
CREATED:20250130T190241Z
LAST-MODIFIED:20250609T173717Z
UID:1044-1749844800-1749855600@thepicklesnation.com
SUMMARY:Duo @ Buckalew's
DESCRIPTION:
URL:https://thepicklesnation.com/event/duo-buckalews-4/
END:VEVENT
BEGIN:VEVENT
DTSTART;TZID=America/New_York:20250612T180000
DTEND;TZID=America/New_York:20250612T210000
DTSTAMP:20260420T200647
CREATED:20250130T183633Z
LAST-MODIFIED:20250612T172353Z
UID:948-1749751200-1749762000@thepicklesnation.com
SUMMARY:Duo @ DaddyO
DESCRIPTION:
URL:https://thepicklesnation.com/event/duo-daddyo-36/
END:VEVENT
BEGIN:VEVENT
DTSTART;TZID=America/New_York:20250609T180000
DTEND;TZID=America/New_York:20250609T210000
DTSTAMP:20260420T200647
CREATED:20250130T181742Z
LAST-MODIFIED:20250130T181742Z
UID:874-1749492000-1749502800@thepicklesnation.com
SUMMARY:TMT @ The OC
DESCRIPTION:
URL:https://thepicklesnation.com/event/tmt-the-oc-44/
END:VEVENT
BEGIN:VEVENT
DTSTART;TZID=America/New_York:20250608T160000
DTEND;TZID=America/New_York:20250608T190000
DTSTAMP:20260420T200647
CREATED:20250521T204619Z
LAST-MODIFIED:20250521T204619Z
UID:1113-1749398400-1749409200@thepicklesnation.com
SUMMARY:Duo @ Private Party
DESCRIPTION:
URL:https://thepicklesnation.com/event/duo-private-party-7/
END:VEVENT
BEGIN:VEVENT
DTSTART;TZID=America/New_York:20250607T210000
DTEND;TZID=America/New_York:20250607T233000
DTSTAMP:20260420T200647
CREATED:20250130T190201Z
LAST-MODIFIED:20250130T190201Z
UID:1042-1749330000-1749339000@thepicklesnation.com
SUMMARY:Full Band @ Joe Pops
DESCRIPTION:
URL:https://thepicklesnation.com/event/full-band-joe-pops-2/
END:VEVENT
BEGIN:VEVENT
DTSTART;TZID=America/New_York:20250607T160000
DTEND;TZID=America/New_York:20250607T200000
DTSTAMP:20260420T200647
CREATED:20250130T190128Z
LAST-MODIFIED:20250130T190128Z
UID:1040-1749312000-1749326400@thepicklesnation.com
SUMMARY:Duo @ Private Party
DESCRIPTION:
URL:https://thepicklesnation.com/event/duo-private-party-4/
END:VEVENT
BEGIN:VEVENT
DTSTART;TZID=America/New_York:20250606T213000
DTEND;TZID=America/New_York:20250606T233000
DTSTAMP:20260420T200647
CREATED:20250130T190054Z
LAST-MODIFIED:20250602T192855Z
UID:1038-1749245400-1749252600@thepicklesnation.com
SUMMARY:Full Band @ Nardi's
DESCRIPTION:
URL:https://thepicklesnation.com/event/full-band-nardis-3/
END:VEVENT
BEGIN:VEVENT
DTSTART;TZID=America/New_York:20250605T190000
DTEND;TZID=America/New_York:20250605T220000
DTSTAMP:20260420T200647
CREATED:20250130T183606Z
LAST-MODIFIED:20250521T203817Z
UID:946-1749150000-1749160800@thepicklesnation.com
SUMMARY:Duo @ DaddyO
DESCRIPTION:
URL:https://thepicklesnation.com/event/duo-daddyo-35/
END:VEVENT
BEGIN:VEVENT
DTSTART;TZID=America/New_York:20250603T190000
DTEND;TZID=America/New_York:20250603T220000
DTSTAMP:20260420T200647
CREATED:20250130T182727Z
LAST-MODIFIED:20250130T182727Z
UID:908-1748977200-1748988000@thepicklesnation.com
SUMMARY:The Pickles n Friends @ Calloways
DESCRIPTION:
URL:https://thepicklesnation.com/event/the-pickles-n-friends-calloways-22/
END:VEVENT
BEGIN:VEVENT
DTSTART;TZID=America/New_York:20250602T180000
DTEND;TZID=America/New_York:20250602T210000
DTSTAMP:20260420T200647
CREATED:20250130T181722Z
LAST-MODIFIED:20250130T181722Z
UID:872-1748887200-1748898000@thepicklesnation.com
SUMMARY:TMT @ The OC
DESCRIPTION:
URL:https://thepicklesnation.com/event/tmt-the-oc-43/
END:VEVENT
BEGIN:VEVENT
DTSTART;TZID=America/New_York:20250531T200000
DTEND;TZID=America/New_York:20250531T230000
DTSTAMP:20260420T200647
CREATED:20250130T185951Z
LAST-MODIFIED:20250130T185951Z
UID:1036-1748721600-1748732400@thepicklesnation.com
SUMMARY:Full Band @ Doyle's Barnegat
DESCRIPTION:
URL:https://thepicklesnation.com/event/full-band-doyles-barnegat-7/
END:VEVENT
BEGIN:VEVENT
DTSTART;TZID=America/New_York:20250531T150000
DTEND;TZID=America/New_York:20250531T180000
DTSTAMP:20260420T200647
CREATED:20250130T185923Z
LAST-MODIFIED:20250130T185923Z
UID:1034-1748703600-1748714400@thepicklesnation.com
SUMMARY:Duo @ Private Party
DESCRIPTION:
URL:https://thepicklesnation.com/event/duo-private-party-3/
END:VEVENT
BEGIN:VEVENT
DTSTART;TZID=America/New_York:20250530T183000
DTEND;TZID=America/New_York:20250530T213000
DTSTAMP:20260420T200647
CREATED:20250130T185853Z
LAST-MODIFIED:20250130T185853Z
UID:1032-1748629800-1748640600@thepicklesnation.com
SUMMARY:Duo @ No. 79
DESCRIPTION:
URL:https://thepicklesnation.com/event/duo-no-79-11/
END:VEVENT
BEGIN:VEVENT
DTSTART;TZID=America/New_York:20250529T190000
DTEND;TZID=America/New_York:20250529T220000
DTSTAMP:20260420T200647
CREATED:20250130T183532Z
LAST-MODIFIED:20250521T203739Z
UID:944-1748545200-1748556000@thepicklesnation.com
SUMMARY:Duo @ DaddyO
DESCRIPTION:
URL:https://thepicklesnation.com/event/duo-daddyo-34/
END:VEVENT
BEGIN:VEVENT
DTSTART;TZID=America/New_York:20250527T190000
DTEND;TZID=America/New_York:20250527T220000
DTSTAMP:20260420T200647
CREATED:20250130T182705Z
LAST-MODIFIED:20250130T182705Z
UID:906-1748372400-1748383200@thepicklesnation.com
SUMMARY:The Pickles n Friends @ Calloways
DESCRIPTION:
URL:https://thepicklesnation.com/event/the-pickles-n-friends-calloways-21/
END:VEVENT
END:VCALENDAR