BEGIN:VCALENDAR
VERSION:2.0
PRODID:-//The Pickles Nation - ECPv6.15.20//NONSGML v1.0//EN
CALSCALE:GREGORIAN
METHOD:PUBLISH
X-WR-CALNAME:The Pickles Nation
X-ORIGINAL-URL:https://thepicklesnation.com
X-WR-CALDESC:Events for The Pickles Nation
REFRESH-INTERVAL;VALUE=DURATION:PT1H
X-Robots-Tag:noindex
X-PUBLISHED-TTL:PT1H
BEGIN:VTIMEZONE
TZID:America/New_York
BEGIN:DAYLIGHT
TZOFFSETFROM:-0500
TZOFFSETTO:-0400
TZNAME:EDT
DTSTART:20230312T070000
END:DAYLIGHT
BEGIN:STANDARD
TZOFFSETFROM:-0400
TZOFFSETTO:-0500
TZNAME:EST
DTSTART:20231105T060000
END:STANDARD
BEGIN:DAYLIGHT
TZOFFSETFROM:-0500
TZOFFSETTO:-0400
TZNAME:EDT
DTSTART:20240310T070000
END:DAYLIGHT
BEGIN:STANDARD
TZOFFSETFROM:-0400
TZOFFSETTO:-0500
TZNAME:EST
DTSTART:20241103T060000
END:STANDARD
BEGIN:DAYLIGHT
TZOFFSETFROM:-0500
TZOFFSETTO:-0400
TZNAME:EDT
DTSTART:20250309T070000
END:DAYLIGHT
BEGIN:STANDARD
TZOFFSETFROM:-0400
TZOFFSETTO:-0500
TZNAME:EST
DTSTART:20251102T060000
END:STANDARD
END:VTIMEZONE
BEGIN:VEVENT
DTSTART;TZID=America/New_York:20241116T193000
DTEND;TZID=America/New_York:20241116T223000
DTSTAMP:20260421T100951
CREATED:20241111T165119Z
LAST-MODIFIED:20241111T165119Z
UID:833-1731785400-1731796200@thepicklesnation.com
SUMMARY:Duo @ MJ's Brick
DESCRIPTION:
URL:https://thepicklesnation.com/event/duo-mjs-brick/
END:VEVENT
BEGIN:VEVENT
DTSTART;TZID=America/New_York:20241118T180000
DTEND;TZID=America/New_York:20241118T210000
DTSTAMP:20260421T100951
CREATED:20240829T205953Z
LAST-MODIFIED:20240829T205953Z
UID:547-1731952800-1731963600@thepicklesnation.com
SUMMARY:TMT @ The OC
DESCRIPTION:Ted Hammock\, Matt Fisher\, & Todd Raupp
URL:https://thepicklesnation.com/event/tmt-the-oc-19/
END:VEVENT
BEGIN:VEVENT
DTSTART;TZID=America/New_York:20241119T190000
DTEND;TZID=America/New_York:20241119T220000
DTSTAMP:20260421T100951
CREATED:20240829T213539Z
LAST-MODIFIED:20240829T213539Z
UID:567-1732042800-1732053600@thepicklesnation.com
SUMMARY:Duo @ Calloways
DESCRIPTION:
URL:https://thepicklesnation.com/event/duo-calloways-22/
END:VEVENT
BEGIN:VEVENT
DTSTART;TZID=America/New_York:20241121T180000
DTEND;TZID=America/New_York:20241121T210000
DTSTAMP:20260421T100951
CREATED:20240829T214950Z
LAST-MODIFIED:20240829T214950Z
UID:607-1732212000-1732222800@thepicklesnation.com
SUMMARY:Duo @ DaddyO
DESCRIPTION:
URL:https://thepicklesnation.com/event/duo-daddyo-8/
END:VEVENT
BEGIN:VEVENT
DTSTART;TZID=America/New_York:20241122T200000
DTEND;TZID=America/New_York:20241122T230000
DTSTAMP:20260421T100951
CREATED:20240829T220355Z
LAST-MODIFIED:20240829T220355Z
UID:641-1732305600-1732316400@thepicklesnation.com
SUMMARY:Trio @ Doyle's Barnegat
DESCRIPTION:
URL:https://thepicklesnation.com/event/trio-doyles-barnegat/
END:VEVENT
BEGIN:VEVENT
DTSTART;TZID=America/New_York:20241123T183000
DTEND;TZID=America/New_York:20241123T213000
DTSTAMP:20260421T100951
CREATED:20240829T220426Z
LAST-MODIFIED:20240829T220426Z
UID:643-1732386600-1732397400@thepicklesnation.com
SUMMARY:Duo @ No. 79
DESCRIPTION:
URL:https://thepicklesnation.com/event/duo-no-79-4/
END:VEVENT
BEGIN:VEVENT
DTSTART;TZID=America/New_York:20241125T180000
DTEND;TZID=America/New_York:20241125T210000
DTSTAMP:20260421T100951
CREATED:20240829T210026Z
LAST-MODIFIED:20240829T210026Z
UID:549-1732557600-1732568400@thepicklesnation.com
SUMMARY:TMT @ The OC
DESCRIPTION:Ted Hammock\, Matt Fisher\, & Todd Raupp
URL:https://thepicklesnation.com/event/tmt-the-oc-20/
END:VEVENT
BEGIN:VEVENT
DTSTART;TZID=America/New_York:20241126T190000
DTEND;TZID=America/New_York:20241126T220000
DTSTAMP:20260421T100951
CREATED:20240829T213602Z
LAST-MODIFIED:20240829T213602Z
UID:569-1732647600-1732658400@thepicklesnation.com
SUMMARY:Duo @ Calloways
DESCRIPTION:
URL:https://thepicklesnation.com/event/duo-calloways-23/
END:VEVENT
BEGIN:VEVENT
DTSTART;TZID=America/New_York:20241127T220000
DTEND;TZID=America/New_York:20241127T233000
DTSTAMP:20260421T100951
CREATED:20240829T215224Z
LAST-MODIFIED:20240829T221054Z
UID:609-1732744800-1732750200@thepicklesnation.com
SUMMARY:Full Band @ Nardi's
DESCRIPTION:
URL:https://thepicklesnation.com/event/duo-daddyo-9/
END:VEVENT
BEGIN:VEVENT
DTSTART;TZID=America/New_York:20241129T200000
DTEND;TZID=America/New_York:20241129T233000
DTSTAMP:20260421T100951
CREATED:20240829T220503Z
LAST-MODIFIED:20240829T220515Z
UID:645-1732910400-1732923000@thepicklesnation.com
SUMMARY:Trio @ MJ's in Bayville
DESCRIPTION:
URL:https://thepicklesnation.com/event/mjs-in-bayville/
END:VEVENT
BEGIN:VEVENT
DTSTART;TZID=America/New_York:20241130T200000
DTEND;TZID=America/New_York:20241130T230000
DTSTAMP:20260421T100951
CREATED:20240829T220541Z
LAST-MODIFIED:20240829T220541Z
UID:648-1732996800-1733007600@thepicklesnation.com
SUMMARY:Duo @ Buckalew's
DESCRIPTION:
URL:https://thepicklesnation.com/event/duo-buckalews/
END:VEVENT
BEGIN:VEVENT
DTSTART;TZID=America/New_York:20241202T180000
DTEND;TZID=America/New_York:20241202T210000
DTSTAMP:20260421T100951
CREATED:20240829T210140Z
LAST-MODIFIED:20240829T210140Z
UID:551-1733162400-1733173200@thepicklesnation.com
SUMMARY:TMT @ The OC
DESCRIPTION:Ted Hammock\, Matt Fisher\, & Todd Raupp
URL:https://thepicklesnation.com/event/tmt-the-oc-21/
END:VEVENT
BEGIN:VEVENT
DTSTART;TZID=America/New_York:20241203T190000
DTEND;TZID=America/New_York:20241203T220000
DTSTAMP:20260421T100951
CREATED:20240829T213621Z
LAST-MODIFIED:20240829T213621Z
UID:571-1733252400-1733263200@thepicklesnation.com
SUMMARY:Duo @ Calloways
DESCRIPTION:
URL:https://thepicklesnation.com/event/duo-calloways-24/
END:VEVENT
BEGIN:VEVENT
DTSTART;TZID=America/New_York:20241206T203000
DTEND;TZID=America/New_York:20241206T235900
DTSTAMP:20260421T100951
CREATED:20240829T220616Z
LAST-MODIFIED:20241030T034705Z
UID:650-1733517000-1733529540@thepicklesnation.com
SUMMARY:Full Band @ B2 in Bayville
DESCRIPTION:
URL:https://thepicklesnation.com/event/full-band-b2-in-bayville-2/
END:VEVENT
BEGIN:VEVENT
DTSTART;TZID=America/New_York:20241207T190000
DTEND;TZID=America/New_York:20241207T230000
DTSTAMP:20260421T100951
CREATED:20240829T220641Z
LAST-MODIFIED:20240829T220641Z
UID:652-1733598000-1733612400@thepicklesnation.com
SUMMARY:Duo @ Beach Haven Moose
DESCRIPTION:
URL:https://thepicklesnation.com/event/duo-beach-haven-moose-2/
END:VEVENT
BEGIN:VEVENT
DTSTART;TZID=America/New_York:20241209T180000
DTEND;TZID=America/New_York:20241209T210000
DTSTAMP:20260421T100951
CREATED:20240829T210231Z
LAST-MODIFIED:20240829T210231Z
UID:553-1733767200-1733778000@thepicklesnation.com
SUMMARY:TMT @ The OC
DESCRIPTION:Ted Hammock\, Matt Fisher\, & Todd Raupp
URL:https://thepicklesnation.com/event/tmt-the-oc-22/
END:VEVENT
BEGIN:VEVENT
DTSTART;TZID=America/New_York:20241210T190000
DTEND;TZID=America/New_York:20241210T220000
DTSTAMP:20260421T100951
CREATED:20240829T213653Z
LAST-MODIFIED:20240829T213653Z
UID:573-1733857200-1733868000@thepicklesnation.com
SUMMARY:Duo @ Calloways
DESCRIPTION:
URL:https://thepicklesnation.com/event/duo-calloways-25/
END:VEVENT
BEGIN:VEVENT
DTSTART;TZID=America/New_York:20241212T180000
DTEND;TZID=America/New_York:20241212T210000
DTSTAMP:20260421T100951
CREATED:20240829T215323Z
LAST-MODIFIED:20240829T215323Z
UID:613-1734026400-1734037200@thepicklesnation.com
SUMMARY:Duo @ DaddyO
DESCRIPTION:
URL:https://thepicklesnation.com/event/duo-daddyo-11/
END:VEVENT
BEGIN:VEVENT
DTSTART;TZID=America/New_York:20241213T200000
DTEND;TZID=America/New_York:20241213T230000
DTSTAMP:20260421T100951
CREATED:20240829T220713Z
LAST-MODIFIED:20240829T220713Z
UID:654-1734120000-1734130800@thepicklesnation.com
SUMMARY:Trio @ Doyle's Barnegat
DESCRIPTION:
URL:https://thepicklesnation.com/event/trio-doyles-barnegat-2/
END:VEVENT
BEGIN:VEVENT
DTSTART;TZID=America/New_York:20241214T180000
DTEND;TZID=America/New_York:20241214T210000
DTSTAMP:20260421T100951
CREATED:20240829T220740Z
LAST-MODIFIED:20240829T220740Z
UID:656-1734199200-1734210000@thepicklesnation.com
SUMMARY:Duo @ The Mainland
DESCRIPTION:
URL:https://thepicklesnation.com/event/duo-the-mainland-2/
END:VEVENT
BEGIN:VEVENT
DTSTART;TZID=America/New_York:20241216T180000
DTEND;TZID=America/New_York:20241216T210000
DTSTAMP:20260421T100951
CREATED:20240829T210301Z
LAST-MODIFIED:20240829T210301Z
UID:555-1734372000-1734382800@thepicklesnation.com
SUMMARY:TMT @ The OC
DESCRIPTION:Ted Hammock\, Matt Fisher\, & Todd Raupp
URL:https://thepicklesnation.com/event/tmt-the-oc-23/
END:VEVENT
BEGIN:VEVENT
DTSTART;TZID=America/New_York:20241217T190000
DTEND;TZID=America/New_York:20241217T220000
DTSTAMP:20260421T100951
CREATED:20240829T213712Z
LAST-MODIFIED:20240829T213712Z
UID:575-1734462000-1734472800@thepicklesnation.com
SUMMARY:Duo @ Calloways
DESCRIPTION:
URL:https://thepicklesnation.com/event/duo-calloways-26/
END:VEVENT
BEGIN:VEVENT
DTSTART;TZID=America/New_York:20241219T180000
DTEND;TZID=America/New_York:20241219T210000
DTSTAMP:20260421T100951
CREATED:20240829T215344Z
LAST-MODIFIED:20240829T215344Z
UID:615-1734631200-1734642000@thepicklesnation.com
SUMMARY:Duo @ DaddyO
DESCRIPTION:
URL:https://thepicklesnation.com/event/duo-daddyo-12/
END:VEVENT
BEGIN:VEVENT
DTSTART;TZID=America/New_York:20241220T183000
DTEND;TZID=America/New_York:20241220T213000
DTSTAMP:20260421T100951
CREATED:20240829T220810Z
LAST-MODIFIED:20240829T220810Z
UID:658-1734719400-1734730200@thepicklesnation.com
SUMMARY:Duo @ No. 79
DESCRIPTION:
URL:https://thepicklesnation.com/event/duo-no-79-5/
END:VEVENT
BEGIN:VEVENT
DTSTART;TZID=America/New_York:20241223T180000
DTEND;TZID=America/New_York:20241223T210000
DTSTAMP:20260421T100951
CREATED:20240829T210330Z
LAST-MODIFIED:20240829T210330Z
UID:557-1734976800-1734987600@thepicklesnation.com
SUMMARY:TMT @ The OC
DESCRIPTION:Ted Hammock\, Matt Fisher\, & Todd Raupp
URL:https://thepicklesnation.com/event/tmt-the-oc-24/
END:VEVENT
BEGIN:VEVENT
DTSTART;TZID=America/New_York:20241226T180000
DTEND;TZID=America/New_York:20241226T210000
DTSTAMP:20260421T100951
CREATED:20241129T184941Z
LAST-MODIFIED:20241129T184941Z
UID:836-1735236000-1735246800@thepicklesnation.com
SUMMARY:Duo @ DaddyO
DESCRIPTION:
URL:https://thepicklesnation.com/event/duo-daddyo-10/
END:VEVENT
BEGIN:VEVENT
DTSTART;TZID=America/New_York:20241227T200000
DTEND;TZID=America/New_York:20241227T230000
DTSTAMP:20260421T100951
CREATED:20240829T220847Z
LAST-MODIFIED:20240829T220847Z
UID:660-1735329600-1735340400@thepicklesnation.com
SUMMARY:Trio @ Doyle's Barnegat
DESCRIPTION:
URL:https://thepicklesnation.com/event/trio-doyles-barnegat-3/
END:VEVENT
BEGIN:VEVENT
DTSTART;TZID=America/New_York:20241228T200000
DTEND;TZID=America/New_York:20241228T230000
DTSTAMP:20260421T100951
CREATED:20240829T220915Z
LAST-MODIFIED:20240829T220915Z
UID:662-1735416000-1735426800@thepicklesnation.com
SUMMARY:Duo @ Buckalew's
DESCRIPTION:
URL:https://thepicklesnation.com/event/duo-buckalews-2/
END:VEVENT
BEGIN:VEVENT
DTSTART;TZID=America/New_York:20241229T110000
DTEND;TZID=America/New_York:20241229T150000
DTSTAMP:20260421T100951
CREATED:20241228T160513Z
LAST-MODIFIED:20241228T160513Z
UID:840-1735470000-1735484400@thepicklesnation.com
SUMMARY:Kegs & Eggs @ Sun Harbor
DESCRIPTION:Pickles Full band 11am-3pm
URL:https://thepicklesnation.com/event/kegs-eggs-sun-harbor/
END:VEVENT
BEGIN:VEVENT
DTSTART;TZID=America/New_York:20241230T180000
DTEND;TZID=America/New_York:20241230T210000
DTSTAMP:20260421T100951
CREATED:20240829T212735Z
LAST-MODIFIED:20240829T212735Z
UID:561-1735581600-1735592400@thepicklesnation.com
SUMMARY:TMT @ The OC
DESCRIPTION:Ted Hammock\, Matt Fisher\, & Todd Raupp
URL:https://thepicklesnation.com/event/tmt-the-oc-25/
END:VEVENT
END:VCALENDAR