BEGIN:VCALENDAR
VERSION:2.0
PRODID:-//The Pickles Nation - ECPv6.15.20//NONSGML v1.0//EN
CALSCALE:GREGORIAN
METHOD:PUBLISH
X-WR-CALNAME:The Pickles Nation
X-ORIGINAL-URL:https://thepicklesnation.com
X-WR-CALDESC:Events for The Pickles Nation
REFRESH-INTERVAL;VALUE=DURATION:PT1H
X-Robots-Tag:noindex
X-PUBLISHED-TTL:PT1H
BEGIN:VTIMEZONE
TZID:America/New_York
BEGIN:DAYLIGHT
TZOFFSETFROM:-0500
TZOFFSETTO:-0400
TZNAME:EDT
DTSTART:20240310T070000
END:DAYLIGHT
BEGIN:STANDARD
TZOFFSETFROM:-0400
TZOFFSETTO:-0500
TZNAME:EST
DTSTART:20241103T060000
END:STANDARD
BEGIN:DAYLIGHT
TZOFFSETFROM:-0500
TZOFFSETTO:-0400
TZNAME:EDT
DTSTART:20250309T070000
END:DAYLIGHT
BEGIN:STANDARD
TZOFFSETFROM:-0400
TZOFFSETTO:-0500
TZNAME:EST
DTSTART:20251102T060000
END:STANDARD
BEGIN:DAYLIGHT
TZOFFSETFROM:-0500
TZOFFSETTO:-0400
TZNAME:EDT
DTSTART:20260308T070000
END:DAYLIGHT
BEGIN:STANDARD
TZOFFSETFROM:-0400
TZOFFSETTO:-0500
TZNAME:EST
DTSTART:20261101T060000
END:STANDARD
END:VTIMEZONE
BEGIN:VEVENT
DTSTART;TZID=America/New_York:20251031T180000
DTEND;TZID=America/New_York:20251031T210000
DTSTAMP:20260420T045549
CREATED:20250915T150903Z
LAST-MODIFIED:20250915T150903Z
UID:1258-1761933600-1761944400@thepicklesnation.com
SUMMARY:Duo @ The Mainland
DESCRIPTION:
URL:https://thepicklesnation.com/event/duo-the-mainland-5/
END:VEVENT
BEGIN:VEVENT
DTSTART;TZID=America/New_York:20251030T180000
DTEND;TZID=America/New_York:20251030T210000
DTSTAMP:20260420T045549
CREATED:20250915T150302Z
LAST-MODIFIED:20250915T150302Z
UID:1244-1761847200-1761858000@thepicklesnation.com
SUMMARY:Duo @ DaddyO
DESCRIPTION:
URL:https://thepicklesnation.com/event/duo-daddyo-44/
END:VEVENT
BEGIN:VEVENT
DTSTART;TZID=America/New_York:20251028T190000
DTEND;TZID=America/New_York:20251028T220000
DTSTAMP:20260420T045549
CREATED:20250818T160025Z
LAST-MODIFIED:20250818T160025Z
UID:1184-1761678000-1761688800@thepicklesnation.com
SUMMARY:The Pickles & Friends @ Calloway's
DESCRIPTION:
URL:https://thepicklesnation.com/event/the-pickles-friends-calloways-8/
END:VEVENT
BEGIN:VEVENT
DTSTART;TZID=America/New_York:20251027T180000
DTEND;TZID=America/New_York:20251027T210000
DTSTAMP:20260420T045549
CREATED:20250915T151111Z
LAST-MODIFIED:20250915T151148Z
UID:1266-1761588000-1761598800@thepicklesnation.com
SUMMARY:Fishing for Turtles @ The OC
DESCRIPTION:
URL:https://thepicklesnation.com/event/fishing-for-turtles-4/
END:VEVENT
BEGIN:VEVENT
DTSTART;TZID=America/New_York:20251025T180000
DTEND;TZID=America/New_York:20251025T220000
DTSTAMP:20260420T045549
CREATED:20250915T150828Z
LAST-MODIFIED:20250925T220815Z
UID:1256-1761415200-1761429600@thepicklesnation.com
SUMMARY:Full Band @ Captain's Inn
DESCRIPTION:
URL:https://thepicklesnation.com/event/full-band-captains-inn-4/
END:VEVENT
BEGIN:VEVENT
DTSTART;TZID=America/New_York:20251024T200000
DTEND;TZID=America/New_York:20251024T230000
DTSTAMP:20260420T045549
CREATED:20250915T150748Z
LAST-MODIFIED:20250915T150748Z
UID:1254-1761336000-1761346800@thepicklesnation.com
SUMMARY:Full Band @ Doyle's Barnegat
DESCRIPTION:
URL:https://thepicklesnation.com/event/full-band-doyles-barnegat-10/
END:VEVENT
BEGIN:VEVENT
DTSTART;TZID=America/New_York:20251023T180000
DTEND;TZID=America/New_York:20251023T210000
DTSTAMP:20260420T045549
CREATED:20250915T150240Z
LAST-MODIFIED:20250915T150240Z
UID:1242-1761242400-1761253200@thepicklesnation.com
SUMMARY:Duo @ DaddyO
DESCRIPTION:
URL:https://thepicklesnation.com/event/duo-daddyo-43/
END:VEVENT
BEGIN:VEVENT
DTSTART;TZID=America/New_York:20251021T190000
DTEND;TZID=America/New_York:20251021T220000
DTSTAMP:20260420T045549
CREATED:20250818T155950Z
LAST-MODIFIED:20250818T155950Z
UID:1182-1761073200-1761084000@thepicklesnation.com
SUMMARY:The Pickles & Friends @ Calloway's
DESCRIPTION:
URL:https://thepicklesnation.com/event/the-pickles-friends-calloways-7/
END:VEVENT
BEGIN:VEVENT
DTSTART;TZID=America/New_York:20251020T180000
DTEND;TZID=America/New_York:20251020T210000
DTSTAMP:20260420T045549
CREATED:20250915T151052Z
LAST-MODIFIED:20250915T151206Z
UID:1264-1760983200-1760994000@thepicklesnation.com
SUMMARY:Fishing for Turtles @ The OC
DESCRIPTION:
URL:https://thepicklesnation.com/event/fishing-for-turtles-3/
END:VEVENT
BEGIN:VEVENT
DTSTART;TZID=America/New_York:20251018T190000
DTEND;TZID=America/New_York:20251018T213000
DTSTAMP:20260420T045549
CREATED:20250915T150659Z
LAST-MODIFIED:20250915T150929Z
UID:1252-1760814000-1760823000@thepicklesnation.com
SUMMARY:Duo @ NOLA AC
DESCRIPTION:Oceans Casino in AC
URL:https://thepicklesnation.com/event/duo-nola-ac/
END:VEVENT
BEGIN:VEVENT
DTSTART;TZID=America/New_York:20251017T190000
DTEND;TZID=America/New_York:20251017T220000
DTSTAMP:20260420T045549
CREATED:20250915T150528Z
LAST-MODIFIED:20250915T150528Z
UID:1250-1760727600-1760738400@thepicklesnation.com
SUMMARY:Duo @ Calloway's
DESCRIPTION:Special Guest Josh Werner
URL:https://thepicklesnation.com/event/duo-calloways-20/
END:VEVENT
BEGIN:VEVENT
DTSTART;TZID=America/New_York:20251016T180000
DTEND;TZID=America/New_York:20251016T210000
DTSTAMP:20260420T045549
CREATED:20250915T150153Z
LAST-MODIFIED:20250915T150153Z
UID:1238-1760637600-1760648400@thepicklesnation.com
SUMMARY:Duo @ DaddyO
DESCRIPTION:
URL:https://thepicklesnation.com/event/duo-daddyo-41/
END:VEVENT
BEGIN:VEVENT
DTSTART;TZID=America/New_York:20251014T190000
DTEND;TZID=America/New_York:20251014T220000
DTSTAMP:20260420T045549
CREATED:20250818T155928Z
LAST-MODIFIED:20250818T155928Z
UID:1180-1760468400-1760479200@thepicklesnation.com
SUMMARY:The Pickles & Friends @ Calloway's
DESCRIPTION:
URL:https://thepicklesnation.com/event/the-pickles-friends-calloways-6/
END:VEVENT
BEGIN:VEVENT
DTSTART;TZID=America/New_York:20251013T180000
DTEND;TZID=America/New_York:20251013T210000
DTSTAMP:20260420T045549
CREATED:20250915T151033Z
LAST-MODIFIED:20250915T151220Z
UID:1262-1760378400-1760389200@thepicklesnation.com
SUMMARY:Fishing for Turtles @ The OC
DESCRIPTION:
URL:https://thepicklesnation.com/event/fishing-for-turtles-2/
END:VEVENT
BEGIN:VEVENT
DTSTART;TZID=America/New_York:20251011T200000
DTEND;TZID=America/New_York:20251011T230000
DTSTAMP:20260420T045549
CREATED:20250915T150441Z
LAST-MODIFIED:20250915T150441Z
UID:1248-1760212800-1760223600@thepicklesnation.com
SUMMARY:Duo @ Buckalew's
DESCRIPTION:
URL:https://thepicklesnation.com/event/duo-buckalews-5/
END:VEVENT
BEGIN:VEVENT
DTSTART;TZID=America/New_York:20251010T220000
DTEND;TZID=America/New_York:20251010T233000
DTSTAMP:20260420T045549
CREATED:20250915T150412Z
LAST-MODIFIED:20251006T154434Z
UID:1246-1760133600-1760139000@thepicklesnation.com
SUMMARY:Full Band @ Nardi's
DESCRIPTION:
URL:https://thepicklesnation.com/event/full-band-nardis-7/
END:VEVENT
BEGIN:VEVENT
DTSTART;TZID=America/New_York:20251009T180000
DTEND;TZID=America/New_York:20251009T210000
DTSTAMP:20260420T045549
CREATED:20250915T150130Z
LAST-MODIFIED:20250915T150130Z
UID:1236-1760032800-1760043600@thepicklesnation.com
SUMMARY:Duo @ DaddyO
DESCRIPTION:
URL:https://thepicklesnation.com/event/duo-daddyo-40/
END:VEVENT
BEGIN:VEVENT
DTSTART;TZID=America/New_York:20251007T190000
DTEND;TZID=America/New_York:20251007T220000
DTSTAMP:20260420T045549
CREATED:20250818T155908Z
LAST-MODIFIED:20250818T155908Z
UID:1178-1759863600-1759874400@thepicklesnation.com
SUMMARY:The Pickles & Friends @ Calloway's
DESCRIPTION:
URL:https://thepicklesnation.com/event/the-pickles-friends-calloways-5/
END:VEVENT
BEGIN:VEVENT
DTSTART;TZID=America/New_York:20251006T180000
DTEND;TZID=America/New_York:20251006T210000
DTSTAMP:20260420T045549
CREATED:20250915T151014Z
LAST-MODIFIED:20250915T151253Z
UID:1260-1759773600-1759784400@thepicklesnation.com
SUMMARY:Fishing for Turtles @ The OC
DESCRIPTION:
URL:https://thepicklesnation.com/event/fishing-for-turtles/
END:VEVENT
BEGIN:VEVENT
DTSTART;TZID=America/New_York:20251004T150000
DTEND;TZID=America/New_York:20251004T220000
DTSTAMP:20260420T045549
CREATED:20250915T150100Z
LAST-MODIFIED:20250915T150100Z
UID:1234-1759590000-1759615200@thepicklesnation.com
SUMMARY:Wedding
DESCRIPTION:
URL:https://thepicklesnation.com/event/wedding/
END:VEVENT
BEGIN:VEVENT
DTSTART;TZID=America/New_York:20251003T200000
DTEND;TZID=America/New_York:20251003T230000
DTSTAMP:20260420T045549
CREATED:20250915T150035Z
LAST-MODIFIED:20250915T150035Z
UID:1232-1759521600-1759532400@thepicklesnation.com
SUMMARY:Full Band @ Doyle's Barnegat
DESCRIPTION:
URL:https://thepicklesnation.com/event/full-band-doyles-barnegat-9/
END:VEVENT
BEGIN:VEVENT
DTSTART;TZID=America/New_York:20251002T180000
DTEND;TZID=America/New_York:20251002T210000
DTSTAMP:20260420T045549
CREATED:20250915T145942Z
LAST-MODIFIED:20250915T145942Z
UID:1230-1759428000-1759438800@thepicklesnation.com
SUMMARY:Duo @ Tucker's Tavern
DESCRIPTION:
URL:https://thepicklesnation.com/event/duo-tuckers-tavern-2/
END:VEVENT
BEGIN:VEVENT
DTSTART;TZID=America/New_York:20250930T190000
DTEND;TZID=America/New_York:20250930T220000
DTSTAMP:20260420T045549
CREATED:20250818T155847Z
LAST-MODIFIED:20250818T155847Z
UID:1176-1759258800-1759269600@thepicklesnation.com
SUMMARY:The Pickles & Friends @ Calloway's
DESCRIPTION:
URL:https://thepicklesnation.com/event/the-pickles-friends-calloways-4/
END:VEVENT
BEGIN:VEVENT
DTSTART;TZID=America/New_York:20250929T180000
DTEND;TZID=America/New_York:20250929T210000
DTSTAMP:20260420T045549
CREATED:20250818T161415Z
LAST-MODIFIED:20250818T161415Z
UID:1222-1759168800-1759179600@thepicklesnation.com
SUMMARY:Fishing for Turtles @ The OC
DESCRIPTION:
URL:https://thepicklesnation.com/event/fishing-for-turtles-the-oc-4/
END:VEVENT
BEGIN:VEVENT
DTSTART;TZID=America/New_York:20250927T220000
DTEND;TZID=America/New_York:20250927T233000
DTSTAMP:20260420T045549
CREATED:20250818T161008Z
LAST-MODIFIED:20250925T210105Z
UID:1212-1759010400-1759015800@thepicklesnation.com
SUMMARY:Full Band @ Joe Pop's
DESCRIPTION:
URL:https://thepicklesnation.com/event/full-band-joe-pops-3/
END:VEVENT
BEGIN:VEVENT
DTSTART;TZID=America/New_York:20250927T140000
DTEND;TZID=America/New_York:20250927T170000
DTSTAMP:20260420T045549
CREATED:20250915T145722Z
LAST-MODIFIED:20250915T145722Z
UID:1228-1758981600-1758992400@thepicklesnation.com
SUMMARY:Duo @ Stewart's LEH
DESCRIPTION:
URL:https://thepicklesnation.com/event/duo-stewarts-leh/
END:VEVENT
BEGIN:VEVENT
DTSTART;TZID=America/New_York:20250926T193000
DTEND;TZID=America/New_York:20250926T213000
DTSTAMP:20260420T045549
CREATED:20250818T160937Z
LAST-MODIFIED:20250818T160937Z
UID:1210-1758915000-1758922200@thepicklesnation.com
SUMMARY:Full Band @ Lumberton EMS Event
DESCRIPTION:
URL:https://thepicklesnation.com/event/full-band-lumberton-ems-event-2/
END:VEVENT
BEGIN:VEVENT
DTSTART;TZID=America/New_York:20250924T140000
DTEND;TZID=America/New_York:20250924T170000
DTSTAMP:20260420T045549
CREATED:20250130T184321Z
LAST-MODIFIED:20250130T184321Z
UID:977-1758722400-1758733200@thepicklesnation.com
SUMMARY:Duo @ The Sea Shell
DESCRIPTION:
URL:https://thepicklesnation.com/event/duo-the-sea-shell-36/
END:VEVENT
BEGIN:VEVENT
DTSTART;TZID=America/New_York:20250923T190000
DTEND;TZID=America/New_York:20250923T220000
DTSTAMP:20260420T045549
CREATED:20250818T155828Z
LAST-MODIFIED:20250818T155828Z
UID:1174-1758654000-1758664800@thepicklesnation.com
SUMMARY:The Pickles & Friends @ Calloway's
DESCRIPTION:
URL:https://thepicklesnation.com/event/the-pickles-friends-calloways-3/
END:VEVENT
BEGIN:VEVENT
DTSTART;TZID=America/New_York:20250922T180000
DTEND;TZID=America/New_York:20250922T210000
DTSTAMP:20260420T045549
CREATED:20250818T161352Z
LAST-MODIFIED:20250818T161352Z
UID:1220-1758564000-1758574800@thepicklesnation.com
SUMMARY:Fishing for Turtles @ The OC
DESCRIPTION:
URL:https://thepicklesnation.com/event/fishing-for-turtles-the-oc-3/
END:VEVENT
END:VCALENDAR